BEGIN:VCALENDAR
VERSION:2.0
PRODID:-//Copy Book Warrior - ECPv6.15.20//NONSGML v1.0//EN
CALSCALE:GREGORIAN
METHOD:PUBLISH
X-WR-CALNAME:Copy Book Warrior
X-ORIGINAL-URL:https://copybookwarrior.com
X-WR-CALDESC:Events for Copy Book Warrior
REFRESH-INTERVAL;VALUE=DURATION:PT1H
X-Robots-Tag:noindex
X-PUBLISHED-TTL:PT1H
BEGIN:VTIMEZONE
TZID:America/Halifax
BEGIN:DAYLIGHT
TZOFFSETFROM:-0400
TZOFFSETTO:-0300
TZNAME:ADT
DTSTART:20200308T060000
END:DAYLIGHT
BEGIN:STANDARD
TZOFFSETFROM:-0300
TZOFFSETTO:-0400
TZNAME:AST
DTSTART:20201101T050000
END:STANDARD
BEGIN:DAYLIGHT
TZOFFSETFROM:-0400
TZOFFSETTO:-0300
TZNAME:ADT
DTSTART:20210314T060000
END:DAYLIGHT
BEGIN:STANDARD
TZOFFSETFROM:-0300
TZOFFSETTO:-0400
TZNAME:AST
DTSTART:20211107T050000
END:STANDARD
BEGIN:DAYLIGHT
TZOFFSETFROM:-0400
TZOFFSETTO:-0300
TZNAME:ADT
DTSTART:20220313T060000
END:DAYLIGHT
BEGIN:STANDARD
TZOFFSETFROM:-0300
TZOFFSETTO:-0400
TZNAME:AST
DTSTART:20221106T050000
END:STANDARD
BEGIN:DAYLIGHT
TZOFFSETFROM:-0400
TZOFFSETTO:-0300
TZNAME:ADT
DTSTART:20230312T060000
END:DAYLIGHT
BEGIN:STANDARD
TZOFFSETFROM:-0300
TZOFFSETTO:-0400
TZNAME:AST
DTSTART:20231105T050000
END:STANDARD
BEGIN:DAYLIGHT
TZOFFSETFROM:-0400
TZOFFSETTO:-0300
TZNAME:ADT
DTSTART:20240310T060000
END:DAYLIGHT
BEGIN:STANDARD
TZOFFSETFROM:-0300
TZOFFSETTO:-0400
TZNAME:AST
DTSTART:20241103T050000
END:STANDARD
END:VTIMEZONE
BEGIN:VTIMEZONE
TZID:America/Chicago
BEGIN:DAYLIGHT
TZOFFSETFROM:-0600
TZOFFSETTO:-0500
TZNAME:CDT
DTSTART:20220313T080000
END:DAYLIGHT
BEGIN:STANDARD
TZOFFSETFROM:-0500
TZOFFSETTO:-0600
TZNAME:CST
DTSTART:20221106T070000
END:STANDARD
BEGIN:DAYLIGHT
TZOFFSETFROM:-0600
TZOFFSETTO:-0500
TZNAME:CDT
DTSTART:20230312T080000
END:DAYLIGHT
BEGIN:STANDARD
TZOFFSETFROM:-0500
TZOFFSETTO:-0600
TZNAME:CST
DTSTART:20231105T070000
END:STANDARD
BEGIN:DAYLIGHT
TZOFFSETFROM:-0600
TZOFFSETTO:-0500
TZNAME:CDT
DTSTART:20240310T080000
END:DAYLIGHT
BEGIN:STANDARD
TZOFFSETFROM:-0500
TZOFFSETTO:-0600
TZNAME:CST
DTSTART:20241103T070000
END:STANDARD
END:VTIMEZONE
BEGIN:VTIMEZONE
TZID:UTC
BEGIN:STANDARD
TZOFFSETFROM:+0000
TZOFFSETTO:+0000
TZNAME:UTC
DTSTART:20200101T000000
END:STANDARD
END:VTIMEZONE
BEGIN:VTIMEZONE
TZID:UTC
BEGIN:STANDARD
TZOFFSETFROM:+0000
TZOFFSETTO:+0000
TZNAME:UTC
DTSTART:20190101T000000
END:STANDARD
END:VTIMEZONE
BEGIN:VTIMEZONE
TZID:America/New_York
BEGIN:DAYLIGHT
TZOFFSETFROM:-0500
TZOFFSETTO:-0400
TZNAME:EDT
DTSTART:20190310T070000
END:DAYLIGHT
BEGIN:STANDARD
TZOFFSETFROM:-0400
TZOFFSETTO:-0500
TZNAME:EST
DTSTART:20191103T060000
END:STANDARD
BEGIN:DAYLIGHT
TZOFFSETFROM:-0500
TZOFFSETTO:-0400
TZNAME:EDT
DTSTART:20200308T070000
END:DAYLIGHT
BEGIN:STANDARD
TZOFFSETFROM:-0400
TZOFFSETTO:-0500
TZNAME:EST
DTSTART:20201101T060000
END:STANDARD
BEGIN:DAYLIGHT
TZOFFSETFROM:-0500
TZOFFSETTO:-0400
TZNAME:EDT
DTSTART:20210314T070000
END:DAYLIGHT
BEGIN:STANDARD
TZOFFSETFROM:-0400
TZOFFSETTO:-0500
TZNAME:EST
DTSTART:20211107T060000
END:STANDARD
END:VTIMEZONE
BEGIN:VEVENT
DTSTART;TZID=America/Halifax:20231205T110000
DTEND;TZID=America/Halifax:20231205T140000
DTSTAMP:20260424T034522
CREATED:20230720T143614Z
LAST-MODIFIED:20230720T143618Z
UID:1436-1701774000-1701784800@copybookwarrior.com
SUMMARY:AUSA Noon Report
DESCRIPTION:Tuesday\, 5 December 2023\, 11:00 AM – 2:00 PM:  AUSA Noon Report Presentation on Yanks in Blue Berets: American UN Peacekeepers in the Middle East. Free.
URL:https://copybookwarrior.com/event/ausa-noon-report/
END:VEVENT
BEGIN:VEVENT
DTSTART;TZID=America/Halifax:20231104T170000
DTEND;TZID=America/Halifax:20231104T200000
DTSTAMP:20260424T034522
CREATED:20230720T143518Z
LAST-MODIFIED:20230720T143521Z
UID:1434-1699117200-1699128000@copybookwarrior.com
SUMMARY:Field Artillery Hall of Fame Induction
DESCRIPTION:Saturday\, 4 November 2023\, 5:00 PM – 8:00 PM CDT: Induction into the Field Artillery Hall of Fame\, Fort Sill\, Oklahoma. Tickets Required.
URL:https://copybookwarrior.com/event/field-artillery-hall-of-fame-induction/
END:VEVENT
BEGIN:VEVENT
DTSTART;TZID=America/Halifax:20231009T000000
DTEND;TZID=America/Halifax:20231009T235959
DTSTAMP:20260424T034522
CREATED:20230720T143347Z
LAST-MODIFIED:20230720T143350Z
UID:1432-1696809600-1696895999@copybookwarrior.com
SUMMARY:AUSA EXPO + BOOK FORUM
DESCRIPTION:Monday\, 9 October 2023: Association of the US Army Annual Convention Book Forum presentation On Yanks in Blue Berets: American UN Peacekeepers in the Middle East. Registration Required.
URL:https://copybookwarrior.com/event/ausa-expo-book-forum/
END:VEVENT
BEGIN:VEVENT
DTSTART;TZID=America/Chicago:20230906T190000
DTEND;TZID=America/Chicago:20230906T200000
DTSTAMP:20260424T034522
CREATED:20230220T215545Z
LAST-MODIFIED:20230220T215549Z
UID:1307-1694026800-1694030400@copybookwarrior.com
SUMMARY:Lecture on Yanks in Blue Berets:American UN Peacekeeping in the Middle East
DESCRIPTION:PM Army Heritage Center Foundation Lecture on Yanks in Blue Berets:American UN Peacekeeping in the Middle EastNote: In person at 950 Soldiers Dr\, Carlisle\, PA 17013\, and virtual after registration (details tofollow.)
URL:https://copybookwarrior.com/event/lecture-on-yanks-in-blue-beretsamerican-un-peacekeeping-in-the-middle-east/
END:VEVENT
BEGIN:VEVENT
DTSTART;TZID=America/Chicago:20230429T143000
DTEND;TZID=America/Chicago:20230429T153000
DTSTAMP:20260424T034522
CREATED:20230220T215017Z
LAST-MODIFIED:20230220T215021Z
UID:1305-1682778600-1682782200@copybookwarrior.com
SUMMARY:Lecture and Book Signing on Desert Redleg
DESCRIPTION:Lecture and Book Signing on Desert Redleg at the Officer of the First Division ReunionJunction City\, KSNote: Marriot Hotel and Convention Center\, The Prairie Room\, 310 Hammons Dr.\, Junction City
URL:https://copybookwarrior.com/event/lecture-and-book-signing-on-desert-redleg/
END:VEVENT
BEGIN:VEVENT
DTSTART;TZID=America/Chicago:20230302T190000
DTEND;TZID=America/Chicago:20230302T200000
DTSTAMP:20260424T034522
CREATED:20230220T214734Z
LAST-MODIFIED:20230220T214739Z
UID:1303-1677783600-1677787200@copybookwarrior.com
SUMMARY:A Date with History: Desert Redleg
DESCRIPTION:When Saddam Hussein’s Iraq invaded Kuwait in August 1990\, triggering the First Gulf War\, a coalition of thirty-five countries led by the United States responded with Operation Desert Storm\, which culminated in a one-hundred-hour coordinated air strike and ground assault that repelled Iraqi forces from Kuwait. But there is much more to that story. Though largely forgotten in descriptions of the war\, an eight-day barrage of artillery fire made this seemingly rapid offensive possible. At the forefront of this offensive were the brave field artillerymen known as “redlegs” in support of the Big Red One’s initial assault on the Iraqi 26th Infantry Division and the onward attack by the division of Iraqi Republican Guards positions deeper inside Iraq and Kuwait. \n\n\n\nIn Desert Redleg: Artillery Warfare in the First Gulf War\, a veteran and former redleg of the 1st Infantry Division Artillery\, “Big Red One”\, Colonel (Retired) L. Scott Lingamfelter\, recounts the logistical and strategic decisions that led to a coalition victory.  Drawing on original battle maps\, official reports\, and personal journals\, Lingamfelter describes the experience of the First Gulf War through a soldier’s eyes and attempts to answer the question of whether the United States “got the job done” in its first sustained Middle Eastern conflict.  Part military history\, part personal memoir\, this book provides a boots-on-the-ground perspective on the largest U.S. artillery bombardment since World War II. \n\n\n\nRegister at no cost here: https://www.fdmuseum.org/event/desert-redleg-artillery-warfare-in-the-first-gulf-war/?fbclid=IwAR0am1D1s2ZiattfvBRDfWVZx-YYMnJixjy3R1fzTPh7LjPgTTDlKcbDw0U
URL:https://copybookwarrior.com/event/a-date-with-history-desert-redleg/
END:VEVENT
BEGIN:VEVENT
DTSTART;TZID=America/Halifax:20211101T090000
DTEND;TZID=America/Halifax:20211101T160000
DTSTAMP:20260424T034522
CREATED:20200423T105135Z
LAST-MODIFIED:20200901T102949Z
UID:344-1635757200-1635782400@copybookwarrior.com
SUMMARY:The Kentucky Book Festival
DESCRIPTION:Kentucky Horse Park\, Alltech Arena\, 4089 Iron Works Pkwy\, Lexington\, KY 40511 \n\n\n\nA celebration of reading\, writing\, and publishing\, the Kentucky Book Festival takes place each November in Lexington\, culminating in the Kentucky Book Fair. I’ll be there to promote my new book\, “Desert Redleg.”
URL:https://copybookwarrior.com/event/the-kentucky-book-festival/
END:VEVENT
BEGIN:VEVENT
DTSTART;TZID=UTC:20210424T180000
DTEND;TZID=UTC:20210424T220000
DTSTAMP:20260424T034522
CREATED:20200403T042933Z
LAST-MODIFIED:20201211T123056Z
UID:158-1619287200-1619301600@copybookwarrior.com
SUMMARY:Officer of the First Division Dinner Book Lecture and Signing
DESCRIPTION:
URL:https://copybookwarrior.com/event/officer-of-the-first-division-dinner-2/
LOCATION:Fort Riley\, 310 Hammons Dr.\, Junction City\, KS\, 66441\, United States
END:VEVENT
BEGIN:VEVENT
DTSTART;TZID=America/Halifax:20210414T190000
DTEND;TZID=America/Halifax:20210414T200000
DTSTAMP:20260424T034522
CREATED:20201211T115023Z
LAST-MODIFIED:20210129T150302Z
UID:711-1618426800-1618430400@copybookwarrior.com
SUMMARY:Army Heritage Center Virtual Presentation
DESCRIPTION:Note: This event was previously scheduled for February 11. It has been moved to April 14. Register in advance here: https://us02web.zoom.us/webinar/register/WN_-hDZ5R7wQlqpRob-YvemgQ
URL:https://copybookwarrior.com/event/army-heritage-center-virtual-presentation/
END:VEVENT
BEGIN:VEVENT
DTSTART;TZID=UTC:20210408T170000
DTEND;TZID=UTC:20210408T220000
DTSTAMP:20260424T034522
CREATED:20200403T042341Z
LAST-MODIFIED:20201211T123057Z
UID:155-1617901200-1617919200@copybookwarrior.com
SUMMARY:The First Division Museum at Cantigny Park
DESCRIPTION:
URL:https://copybookwarrior.com/event/the-first-division-museum-at-cantigny-park/
LOCATION:CANTIGNY PARK\, 1 S 151 Winfield Road 60189\, Wheaton\, Illinois\, 60189
END:VEVENT
BEGIN:VEVENT
DTSTART;TZID=America/Halifax:20210224T200000
DTEND;TZID=America/Halifax:20210224T211500
DTSTAMP:20260424T034522
CREATED:20201204T014207Z
LAST-MODIFIED:20201211T115444Z
UID:679-1614196800-1614201300@copybookwarrior.com
SUMMARY:The First Division Museum at Cantigny Park Virtual Presentation
DESCRIPTION:Desert Redleg: Artillery Warfare in the First Gulf War8:00PM EST/7:00 PM CST Online via ZoomFree Event but Registration Requiredhttps://www.fdmuseum.org/event/desert-redleg-artillery-warfare-in-the-first-gulf-war/
URL:https://copybookwarrior.com/event/first-division-museum-date-with-history-series/
LOCATION:Catigny Park\, 1 S 151 Winfield Road\, Wheaton\, IL\, 60189\, United States
END:VEVENT
BEGIN:VEVENT
DTSTART;TZID=UTC:20200804T100000
DTEND;TZID=UTC:20200804T110000
DTSTAMP:20260424T034522
CREATED:20200723T161020Z
LAST-MODIFIED:20200723T161152Z
UID:551-1596535200-1596538800@copybookwarrior.com
SUMMARY:Lemnitzer Lecture Series Webinar
DESCRIPTION:I will be participating in a Webinar on my book Desert Redleg: Artillery Warfare in the First Gulf War as part of the Lemnitzer Lecture Series hosted by Association of the US Army (AUSA) at 10 AM (EDT) on Tuesday\, 4 August 2020. Here is the link where you must register in advance to participate: https://www.ausa.org/events/thought-leaders-lingamfelter. You do not need to be a member of AUSA to listen in and participate!
URL:https://copybookwarrior.com/event/lemnitzer-lecture-series-webinar/
END:VEVENT
BEGIN:VEVENT
DTSTART;TZID=UTC:20200622T080000
DTEND;TZID=UTC:20200622T170000
DTSTAMP:20260424T034522
CREATED:20200611T100241Z
LAST-MODIFIED:20200611T100251Z
UID:515-1592812800-1592845200@copybookwarrior.com
SUMMARY:AUSA Podcast
DESCRIPTION:AUSA produces a weekly “Army Matters” podcast. I’ll be the guest on June 22 to talk about my new book\, Desert Redleg: Artillery Warfare in the First Gulf War. The book\, an AUSA title\, highlights the war from the perspective of the artillery forces that contributed to the defeat of Saddam Hussein’s Iraqi forces in Kuwait.
URL:https://copybookwarrior.com/event/ausa-podcast/
END:VEVENT
BEGIN:VEVENT
DTSTART;TZID=America/New_York:20200602T121500
DTEND;TZID=America/New_York:20200602T150000
DTSTAMP:20260424T034522
CREATED:20200403T041516Z
LAST-MODIFIED:20200506T195526Z
UID:151-1591100100-1591110000@copybookwarrior.com
SUMMARY:The Commonwealth Club
DESCRIPTION:This event has been postponed due to the COVID-19 situation\, to later in the year.
URL:https://copybookwarrior.com/event/commonwealth-club/
LOCATION:Commonwealth Club\, 401 W. Franklin St.\, Richmond\, VA\, United States
END:VEVENT
BEGIN:VEVENT
DTSTART;TZID=UTC:20200520T223000
DTEND;TZID=UTC:20200520T230000
DTSTAMP:20260424T034522
CREATED:20200518T111504Z
LAST-MODIFIED:20200521T001023Z
UID:486-1590013800-1590015600@copybookwarrior.com
SUMMARY:Radio: Jim Bohannon
DESCRIPTION:You can listen live here as I talk about my new book!
URL:https://copybookwarrior.com/event/radio-jim-bohannon/
END:VEVENT
BEGIN:VEVENT
DTSTART;TZID=UTC:20200519T080000
DTEND;TZID=UTC:20200519T170000
DTSTAMP:20260424T034522
CREATED:20200514T150818Z
LAST-MODIFIED:20200906T122631Z
UID:478-1589875200-1589907600@copybookwarrior.com
SUMMARY:"Desert Redleg" Release!
DESCRIPTION:My first book\, “Desert Redleg: Artillery Warfare in the First Gulf War” is released today! \n\n\n\nWhen Saddam Hussein’s Iraq invaded Kuwait in August 1990\, triggering the First Gulf War\, a coalition of thirty-five countries led by the United States responded with Operation Desert Storm\, which culminated in a one-hundred-hour coordinated air strike and ground assault that repelled Iraqi forces from Kuwait. Though largely forgotten in descriptions of the war\, an eight-day barrage of artillery fire made this seemingly rapid offensive possible. At the forefront of this offensive were the brave field artillerymen known as “redlegs.”  You can buy it here.
URL:https://copybookwarrior.com/event/desert-redleg-release/
END:VEVENT
BEGIN:VEVENT
DTSTART;TZID=UTC:20200519T070000
DTEND;TZID=UTC:20200519T073000
DTSTAMP:20260424T034522
CREATED:20200518T111209Z
LAST-MODIFIED:20200518T111218Z
UID:484-1589871600-1589873400@copybookwarrior.com
SUMMARY:Radio: WMAL Morning on the Mall
DESCRIPTION:You can hear me livestream here: https://www.wmal.com/mornings-on-the-mall/ or you can tune in to 105.9WMAL.
URL:https://copybookwarrior.com/event/radio-wmal-morning-on-the-mall/
END:VEVENT
BEGIN:VEVENT
DTSTART;TZID=UTC:20200518T070000
DTEND;TZID=UTC:20200518T073000
DTSTAMP:20260424T034522
CREATED:20200518T110121Z
LAST-MODIFIED:20200906T122649Z
UID:482-1589785200-1589787000@copybookwarrior.com
SUMMARY:John Fredericks Radio
DESCRIPTION:Listen to me live at: https://jfradioshow.streamguys1.com/live or tune in on the radio: \n\n\n\nWNTW AM 820/92.7 FM – RichmondWJFN 100.5 FM – Central VirginiaWPMH AM 1010/100.1 FM /96.9 FM – Hampton RdsWBRG AM 1050/105.1FM – Lynchburg\, Roanoke\, Charlottesville\, Danville
URL:https://copybookwarrior.com/event/john-fredericks-radio/
END:VEVENT
BEGIN:VEVENT
DTSTART;TZID=America/New_York:20200512T173000
DTEND;TZID=America/New_York:20200512T220000
DTSTAMP:20260424T034522
CREATED:20200403T040857Z
LAST-MODIFIED:20200405T131527Z
UID:147-1589304600-1589320800@copybookwarrior.com
SUMMARY:Lemnitzer Lecture & Book Signing
DESCRIPTION:Due to the COVID-19/Coronavirus\, AUSA has determined that it would be in the best interests of the community to postpone this event. Out of concern for everyone’s health and welfare\, they regretfully have made the decision to postpone this event.
URL:https://copybookwarrior.com/event/lemnitzer-lecture-book-signing/
LOCATION:AUSA\, 2425 Wilson Boulevard\, Arlington\, VA\, United States
END:VEVENT
BEGIN:VEVENT
DTSTART;TZID=America/New_York:20200425T180000
DTEND;TZID=America/New_York:20200425T230000
DTSTAMP:20260424T034522
CREATED:20200403T040413Z
LAST-MODIFIED:20200405T131517Z
UID:144-1587837600-1587855600@copybookwarrior.com
SUMMARY:Officer of the First Division Dinner
DESCRIPTION:DUE TO THE COVID-19 CRISIS\, THIS EVENT HAS BEEN RESCHEDULED TO APRIL 24\, 2021.
URL:https://copybookwarrior.com/event/officer-of-the-first-division-dinner/
LOCATION:Fort Riley\, 310 Hammons Dr.\, Junction City\, KS\, 66441\, United States
END:VEVENT
END:VCALENDAR